BEGIN:VCALENDAR
VERSION:2.0
PRODID:-//Wild Rose Yoga Therapy - ECPv6.15.20//NONSGML v1.0//EN
CALSCALE:GREGORIAN
METHOD:PUBLISH
X-WR-CALNAME:Wild Rose Yoga Therapy
X-ORIGINAL-URL:https://www.yogawithkym.com
X-WR-CALDESC:Events for Wild Rose Yoga Therapy
REFRESH-INTERVAL;VALUE=DURATION:PT1H
X-Robots-Tag:noindex
X-PUBLISHED-TTL:PT1H
BEGIN:VTIMEZONE
TZID:America/Los_Angeles
BEGIN:DAYLIGHT
TZOFFSETFROM:-0800
TZOFFSETTO:-0700
TZNAME:PDT
DTSTART:20240310T100000
END:DAYLIGHT
BEGIN:STANDARD
TZOFFSETFROM:-0700
TZOFFSETTO:-0800
TZNAME:PST
DTSTART:20241103T090000
END:STANDARD
BEGIN:DAYLIGHT
TZOFFSETFROM:-0800
TZOFFSETTO:-0700
TZNAME:PDT
DTSTART:20250309T100000
END:DAYLIGHT
BEGIN:STANDARD
TZOFFSETFROM:-0700
TZOFFSETTO:-0800
TZNAME:PST
DTSTART:20251102T090000
END:STANDARD
BEGIN:DAYLIGHT
TZOFFSETFROM:-0800
TZOFFSETTO:-0700
TZNAME:PDT
DTSTART:20260308T100000
END:DAYLIGHT
BEGIN:STANDARD
TZOFFSETFROM:-0700
TZOFFSETTO:-0800
TZNAME:PST
DTSTART:20261101T090000
END:STANDARD
END:VTIMEZONE
BEGIN:VEVENT
DTSTART;TZID=America/Los_Angeles:20250902T100000
DTEND;TZID=America/Los_Angeles:20250902T111500
DTSTAMP:20260420T081558
CREATED:20240430T150327Z
LAST-MODIFIED:20251014T043419Z
UID:10152-1756807200-1756811700@www.yogawithkym.com
SUMMARY:10:00AM Corralitos Grange
DESCRIPTION:Group Class geared for multi level multi generational yoga practice! \nTraditional Hatha Yoga with an Internationally Certified Yoga Therapist. \nCome as you are! \nSliding Scale $12-20.00
URL:https://www.yogawithkym.com/class-details/community-yoga/2025-09-02/
LOCATION:Corralitos Grange\, 165 Little Corral Way\, Corralitos\, CA\, 95076\, United States
END:VEVENT
BEGIN:VEVENT
DTSTART;TZID=America/Los_Angeles:20250903T103000
DTEND;TZID=America/Los_Angeles:20250903T114500
DTSTAMP:20260420T081558
CREATED:20240501T035443Z
LAST-MODIFIED:20250221T163658Z
UID:8647-1756895400-1756899900@www.yogawithkym.com
SUMMARY:10:30AM GROUP YOGA THERAPY
DESCRIPTION:Wednesdays are Ocean View and In Person\, $25-35.00 EACH CLASS \nEnjoy a small group class offered in a private ocean view studio. In this group yoga therapy approach we  address the needs of the everyone present with adaptations and healing modalities for each persons wellness goals. \nFridays are Zoom\, $15–20.00 EACH CLASS \nTEXT TO REGISTER…831-254-6100
URL:https://www.yogawithkym.com/class-details/1030am-yoga-therapy/2025-09-03/
LOCATION:capitola\, Ca\, Balboa Ave\, Capitola\, CA\, 95010\, United States
END:VEVENT
END:VCALENDAR