BEGIN:VCALENDAR
VERSION:2.0
PRODID:-//Wild Rose Yoga Therapy - ECPv6.15.20//NONSGML v1.0//EN
CALSCALE:GREGORIAN
METHOD:PUBLISH
X-WR-CALNAME:Wild Rose Yoga Therapy
X-ORIGINAL-URL:https://www.yogawithkym.com
X-WR-CALDESC:Events for Wild Rose Yoga Therapy
REFRESH-INTERVAL;VALUE=DURATION:PT1H
X-Robots-Tag:noindex
X-PUBLISHED-TTL:PT1H
BEGIN:VTIMEZONE
TZID:America/Los_Angeles
BEGIN:DAYLIGHT
TZOFFSETFROM:-0800
TZOFFSETTO:-0700
TZNAME:PDT
DTSTART:20240310T100000
END:DAYLIGHT
BEGIN:STANDARD
TZOFFSETFROM:-0700
TZOFFSETTO:-0800
TZNAME:PST
DTSTART:20241103T090000
END:STANDARD
BEGIN:DAYLIGHT
TZOFFSETFROM:-0800
TZOFFSETTO:-0700
TZNAME:PDT
DTSTART:20250309T100000
END:DAYLIGHT
BEGIN:STANDARD
TZOFFSETFROM:-0700
TZOFFSETTO:-0800
TZNAME:PST
DTSTART:20251102T090000
END:STANDARD
BEGIN:DAYLIGHT
TZOFFSETFROM:-0800
TZOFFSETTO:-0700
TZNAME:PDT
DTSTART:20260308T100000
END:DAYLIGHT
BEGIN:STANDARD
TZOFFSETFROM:-0700
TZOFFSETTO:-0800
TZNAME:PST
DTSTART:20261101T090000
END:STANDARD
END:VTIMEZONE
BEGIN:VEVENT
DTSTART;TZID=America/Los_Angeles:20250926T103000
DTEND;TZID=America/Los_Angeles:20250926T114500
DTSTAMP:20260420T013640
CREATED:20240501T035443Z
LAST-MODIFIED:20250221T163702Z
UID:8654-1758882600-1758887100@www.yogawithkym.com
SUMMARY:10:30AM GROUP YOGA THERAPY
DESCRIPTION:Wednesdays are Ocean View and In Person\, $25-35.00 EACH CLASS \nEnjoy a small group class offered in a private ocean view studio. In this group yoga therapy approach we  address the needs of the everyone present with adaptations and healing modalities for each persons wellness goals. \nFridays are Zoom\, $15–20.00 EACH CLASS \nTEXT TO REGISTER…831-254-6100
URL:https://www.yogawithkym.com/class-details/1030am-yoga-therapy/2025-09-26/
LOCATION:capitola\, Ca\, Balboa Ave\, Capitola\, CA\, 95010\, United States
END:VEVENT
BEGIN:VEVENT
DTSTART;TZID=America/Los_Angeles:20250924T103000
DTEND;TZID=America/Los_Angeles:20250924T114500
DTSTAMP:20260420T013640
CREATED:20240501T035443Z
LAST-MODIFIED:20250221T163702Z
UID:8653-1758709800-1758714300@www.yogawithkym.com
SUMMARY:10:30AM GROUP YOGA THERAPY
DESCRIPTION:Wednesdays are Ocean View and In Person\, $25-35.00 EACH CLASS \nEnjoy a small group class offered in a private ocean view studio. In this group yoga therapy approach we  address the needs of the everyone present with adaptations and healing modalities for each persons wellness goals. \nFridays are Zoom\, $15–20.00 EACH CLASS \nTEXT TO REGISTER…831-254-6100
URL:https://www.yogawithkym.com/class-details/1030am-yoga-therapy/2025-09-24/
LOCATION:capitola\, Ca\, Balboa Ave\, Capitola\, CA\, 95010\, United States
END:VEVENT
BEGIN:VEVENT
DTSTART;TZID=America/Los_Angeles:20250919T103000
DTEND;TZID=America/Los_Angeles:20250919T114500
DTSTAMP:20260420T013640
CREATED:20240501T035443Z
LAST-MODIFIED:20250221T163702Z
UID:8652-1758277800-1758282300@www.yogawithkym.com
SUMMARY:10:30AM GROUP YOGA THERAPY
DESCRIPTION:Wednesdays are Ocean View and In Person\, $25-35.00 EACH CLASS \nEnjoy a small group class offered in a private ocean view studio. In this group yoga therapy approach we  address the needs of the everyone present with adaptations and healing modalities for each persons wellness goals. \nFridays are Zoom\, $15–20.00 EACH CLASS \nTEXT TO REGISTER…831-254-6100
URL:https://www.yogawithkym.com/class-details/1030am-yoga-therapy/2025-09-19/
LOCATION:capitola\, Ca\, Balboa Ave\, Capitola\, CA\, 95010\, United States
END:VEVENT
BEGIN:VEVENT
DTSTART;TZID=America/Los_Angeles:20250917T103000
DTEND;TZID=America/Los_Angeles:20250917T114500
DTSTAMP:20260420T013640
CREATED:20240501T035443Z
LAST-MODIFIED:20250221T163701Z
UID:8651-1758105000-1758109500@www.yogawithkym.com
SUMMARY:10:30AM GROUP YOGA THERAPY
DESCRIPTION:Wednesdays are Ocean View and In Person\, $25-35.00 EACH CLASS \nEnjoy a small group class offered in a private ocean view studio. In this group yoga therapy approach we  address the needs of the everyone present with adaptations and healing modalities for each persons wellness goals. \nFridays are Zoom\, $15–20.00 EACH CLASS \nTEXT TO REGISTER…831-254-6100
URL:https://www.yogawithkym.com/class-details/1030am-yoga-therapy/2025-09-17/
LOCATION:capitola\, Ca\, Balboa Ave\, Capitola\, CA\, 95010\, United States
END:VEVENT
BEGIN:VEVENT
DTSTART;TZID=America/Los_Angeles:20250912T103000
DTEND;TZID=America/Los_Angeles:20250912T114500
DTSTAMP:20260420T013640
CREATED:20240501T035443Z
LAST-MODIFIED:20250221T163701Z
UID:8650-1757673000-1757677500@www.yogawithkym.com
SUMMARY:10:30AM GROUP YOGA THERAPY
DESCRIPTION:Wednesdays are Ocean View and In Person\, $25-35.00 EACH CLASS \nEnjoy a small group class offered in a private ocean view studio. In this group yoga therapy approach we  address the needs of the everyone present with adaptations and healing modalities for each persons wellness goals. \nFridays are Zoom\, $15–20.00 EACH CLASS \nTEXT TO REGISTER…831-254-6100
URL:https://www.yogawithkym.com/class-details/1030am-yoga-therapy/2025-09-12/
LOCATION:capitola\, Ca\, Balboa Ave\, Capitola\, CA\, 95010\, United States
END:VEVENT
BEGIN:VEVENT
DTSTART;TZID=America/Los_Angeles:20250910T103000
DTEND;TZID=America/Los_Angeles:20250910T114500
DTSTAMP:20260420T013640
CREATED:20240501T035443Z
LAST-MODIFIED:20250221T163658Z
UID:8649-1757500200-1757504700@www.yogawithkym.com
SUMMARY:10:30AM GROUP YOGA THERAPY
DESCRIPTION:Wednesdays are Ocean View and In Person\, $25-35.00 EACH CLASS \nEnjoy a small group class offered in a private ocean view studio. In this group yoga therapy approach we  address the needs of the everyone present with adaptations and healing modalities for each persons wellness goals. \nFridays are Zoom\, $15–20.00 EACH CLASS \nTEXT TO REGISTER…831-254-6100
URL:https://www.yogawithkym.com/class-details/1030am-yoga-therapy/2025-09-10/
LOCATION:capitola\, Ca\, Balboa Ave\, Capitola\, CA\, 95010\, United States
END:VEVENT
BEGIN:VEVENT
DTSTART;TZID=America/Los_Angeles:20250905T103000
DTEND;TZID=America/Los_Angeles:20250905T114500
DTSTAMP:20260420T013640
CREATED:20240501T035443Z
LAST-MODIFIED:20250221T163658Z
UID:8648-1757068200-1757072700@www.yogawithkym.com
SUMMARY:10:30AM GROUP YOGA THERAPY
DESCRIPTION:Wednesdays are Ocean View and In Person\, $25-35.00 EACH CLASS \nEnjoy a small group class offered in a private ocean view studio. In this group yoga therapy approach we  address the needs of the everyone present with adaptations and healing modalities for each persons wellness goals. \nFridays are Zoom\, $15–20.00 EACH CLASS \nTEXT TO REGISTER…831-254-6100
URL:https://www.yogawithkym.com/class-details/1030am-yoga-therapy/2025-09-05/
LOCATION:capitola\, Ca\, Balboa Ave\, Capitola\, CA\, 95010\, United States
END:VEVENT
BEGIN:VEVENT
DTSTART;TZID=America/Los_Angeles:20250903T103000
DTEND;TZID=America/Los_Angeles:20250903T114500
DTSTAMP:20260420T013640
CREATED:20240501T035443Z
LAST-MODIFIED:20250221T163658Z
UID:8647-1756895400-1756899900@www.yogawithkym.com
SUMMARY:10:30AM GROUP YOGA THERAPY
DESCRIPTION:Wednesdays are Ocean View and In Person\, $25-35.00 EACH CLASS \nEnjoy a small group class offered in a private ocean view studio. In this group yoga therapy approach we  address the needs of the everyone present with adaptations and healing modalities for each persons wellness goals. \nFridays are Zoom\, $15–20.00 EACH CLASS \nTEXT TO REGISTER…831-254-6100
URL:https://www.yogawithkym.com/class-details/1030am-yoga-therapy/2025-09-03/
LOCATION:capitola\, Ca\, Balboa Ave\, Capitola\, CA\, 95010\, United States
END:VEVENT
BEGIN:VEVENT
DTSTART;TZID=America/Los_Angeles:20250829T103000
DTEND;TZID=America/Los_Angeles:20250829T114500
DTSTAMP:20260420T013640
CREATED:20240501T035443Z
LAST-MODIFIED:20250221T163657Z
UID:8646-1756463400-1756467900@www.yogawithkym.com
SUMMARY:10:30AM GROUP YOGA THERAPY
DESCRIPTION:Wednesdays are Ocean View and In Person\, $25-35.00 EACH CLASS \nEnjoy a small group class offered in a private ocean view studio. In this group yoga therapy approach we  address the needs of the everyone present with adaptations and healing modalities for each persons wellness goals. \nFridays are Zoom\, $15–20.00 EACH CLASS \nTEXT TO REGISTER…831-254-6100
URL:https://www.yogawithkym.com/class-details/1030am-yoga-therapy/2025-08-29/
LOCATION:capitola\, Ca\, Balboa Ave\, Capitola\, CA\, 95010\, United States
END:VEVENT
BEGIN:VEVENT
DTSTART;TZID=America/Los_Angeles:20250827T103000
DTEND;TZID=America/Los_Angeles:20250827T114500
DTSTAMP:20260420T013640
CREATED:20240501T035443Z
LAST-MODIFIED:20250221T163657Z
UID:8645-1756290600-1756295100@www.yogawithkym.com
SUMMARY:10:30AM GROUP YOGA THERAPY
DESCRIPTION:Wednesdays are Ocean View and In Person\, $25-35.00 EACH CLASS \nEnjoy a small group class offered in a private ocean view studio. In this group yoga therapy approach we  address the needs of the everyone present with adaptations and healing modalities for each persons wellness goals. \nFridays are Zoom\, $15–20.00 EACH CLASS \nTEXT TO REGISTER…831-254-6100
URL:https://www.yogawithkym.com/class-details/1030am-yoga-therapy/2025-08-27/
LOCATION:capitola\, Ca\, Balboa Ave\, Capitola\, CA\, 95010\, United States
END:VEVENT
BEGIN:VEVENT
DTSTART;TZID=America/Los_Angeles:20250822T103000
DTEND;TZID=America/Los_Angeles:20250822T114500
DTSTAMP:20260420T013640
CREATED:20240501T035443Z
LAST-MODIFIED:20250221T163657Z
UID:8644-1755858600-1755863100@www.yogawithkym.com
SUMMARY:10:30AM GROUP YOGA THERAPY
DESCRIPTION:Wednesdays are Ocean View and In Person\, $25-35.00 EACH CLASS \nEnjoy a small group class offered in a private ocean view studio. In this group yoga therapy approach we  address the needs of the everyone present with adaptations and healing modalities for each persons wellness goals. \nFridays are Zoom\, $15–20.00 EACH CLASS \nTEXT TO REGISTER…831-254-6100
URL:https://www.yogawithkym.com/class-details/1030am-yoga-therapy/2025-08-22/
LOCATION:capitola\, Ca\, Balboa Ave\, Capitola\, CA\, 95010\, United States
END:VEVENT
BEGIN:VEVENT
DTSTART;TZID=America/Los_Angeles:20250820T103000
DTEND;TZID=America/Los_Angeles:20250820T114500
DTSTAMP:20260420T013640
CREATED:20240501T035443Z
LAST-MODIFIED:20250221T163657Z
UID:8643-1755685800-1755690300@www.yogawithkym.com
SUMMARY:10:30AM GROUP YOGA THERAPY
DESCRIPTION:Wednesdays are Ocean View and In Person\, $25-35.00 EACH CLASS \nEnjoy a small group class offered in a private ocean view studio. In this group yoga therapy approach we  address the needs of the everyone present with adaptations and healing modalities for each persons wellness goals. \nFridays are Zoom\, $15–20.00 EACH CLASS \nTEXT TO REGISTER…831-254-6100
URL:https://www.yogawithkym.com/class-details/1030am-yoga-therapy/2025-08-20/
LOCATION:capitola\, Ca\, Balboa Ave\, Capitola\, CA\, 95010\, United States
END:VEVENT
BEGIN:VEVENT
DTSTART;TZID=America/Los_Angeles:20250815T103000
DTEND;TZID=America/Los_Angeles:20250815T114500
DTSTAMP:20260420T013640
CREATED:20240501T035443Z
LAST-MODIFIED:20250221T163656Z
UID:8642-1755253800-1755258300@www.yogawithkym.com
SUMMARY:10:30AM GROUP YOGA THERAPY
DESCRIPTION:Wednesdays are Ocean View and In Person\, $25-35.00 EACH CLASS \nEnjoy a small group class offered in a private ocean view studio. In this group yoga therapy approach we  address the needs of the everyone present with adaptations and healing modalities for each persons wellness goals. \nFridays are Zoom\, $15–20.00 EACH CLASS \nTEXT TO REGISTER…831-254-6100
URL:https://www.yogawithkym.com/class-details/1030am-yoga-therapy/2025-08-15/
LOCATION:capitola\, Ca\, Balboa Ave\, Capitola\, CA\, 95010\, United States
END:VEVENT
BEGIN:VEVENT
DTSTART;TZID=America/Los_Angeles:20250813T103000
DTEND;TZID=America/Los_Angeles:20250813T114500
DTSTAMP:20260420T013640
CREATED:20240501T035443Z
LAST-MODIFIED:20250221T163656Z
UID:8641-1755081000-1755085500@www.yogawithkym.com
SUMMARY:10:30AM GROUP YOGA THERAPY
DESCRIPTION:Wednesdays are Ocean View and In Person\, $25-35.00 EACH CLASS \nEnjoy a small group class offered in a private ocean view studio. In this group yoga therapy approach we  address the needs of the everyone present with adaptations and healing modalities for each persons wellness goals. \nFridays are Zoom\, $15–20.00 EACH CLASS \nTEXT TO REGISTER…831-254-6100
URL:https://www.yogawithkym.com/class-details/1030am-yoga-therapy/2025-08-13/
LOCATION:capitola\, Ca\, Balboa Ave\, Capitola\, CA\, 95010\, United States
END:VEVENT
BEGIN:VEVENT
DTSTART;TZID=America/Los_Angeles:20250808T103000
DTEND;TZID=America/Los_Angeles:20250808T114500
DTSTAMP:20260420T013640
CREATED:20240501T035443Z
LAST-MODIFIED:20250221T163655Z
UID:8640-1754649000-1754653500@www.yogawithkym.com
SUMMARY:10:30AM GROUP YOGA THERAPY
DESCRIPTION:Wednesdays are Ocean View and In Person\, $25-35.00 EACH CLASS \nEnjoy a small group class offered in a private ocean view studio. In this group yoga therapy approach we  address the needs of the everyone present with adaptations and healing modalities for each persons wellness goals. \nFridays are Zoom\, $15–20.00 EACH CLASS \nTEXT TO REGISTER…831-254-6100
URL:https://www.yogawithkym.com/class-details/1030am-yoga-therapy/2025-08-08/
LOCATION:capitola\, Ca\, Balboa Ave\, Capitola\, CA\, 95010\, United States
END:VEVENT
BEGIN:VEVENT
DTSTART;TZID=America/Los_Angeles:20250806T103000
DTEND;TZID=America/Los_Angeles:20250806T114500
DTSTAMP:20260420T013640
CREATED:20240501T035443Z
LAST-MODIFIED:20250221T163654Z
UID:8639-1754476200-1754480700@www.yogawithkym.com
SUMMARY:10:30AM GROUP YOGA THERAPY
DESCRIPTION:Wednesdays are Ocean View and In Person\, $25-35.00 EACH CLASS \nEnjoy a small group class offered in a private ocean view studio. In this group yoga therapy approach we  address the needs of the everyone present with adaptations and healing modalities for each persons wellness goals. \nFridays are Zoom\, $15–20.00 EACH CLASS \nTEXT TO REGISTER…831-254-6100
URL:https://www.yogawithkym.com/class-details/1030am-yoga-therapy/2025-08-06/
LOCATION:capitola\, Ca\, Balboa Ave\, Capitola\, CA\, 95010\, United States
END:VEVENT
BEGIN:VEVENT
DTSTART;TZID=America/Los_Angeles:20250801T103000
DTEND;TZID=America/Los_Angeles:20250801T114500
DTSTAMP:20260420T013640
CREATED:20240501T035443Z
LAST-MODIFIED:20250221T163653Z
UID:8638-1754044200-1754048700@www.yogawithkym.com
SUMMARY:10:30AM GROUP YOGA THERAPY
DESCRIPTION:Wednesdays are Ocean View and In Person\, $25-35.00 EACH CLASS \nEnjoy a small group class offered in a private ocean view studio. In this group yoga therapy approach we  address the needs of the everyone present with adaptations and healing modalities for each persons wellness goals. \nFridays are Zoom\, $15–20.00 EACH CLASS \nTEXT TO REGISTER…831-254-6100
URL:https://www.yogawithkym.com/class-details/1030am-yoga-therapy/2025-08-01/
LOCATION:capitola\, Ca\, Balboa Ave\, Capitola\, CA\, 95010\, United States
END:VEVENT
BEGIN:VEVENT
DTSTART;TZID=America/Los_Angeles:20250730T103000
DTEND;TZID=America/Los_Angeles:20250730T114500
DTSTAMP:20260420T013640
CREATED:20240501T035443Z
LAST-MODIFIED:20250221T163653Z
UID:8637-1753871400-1753875900@www.yogawithkym.com
SUMMARY:10:30AM GROUP YOGA THERAPY
DESCRIPTION:Wednesdays are Ocean View and In Person\, $25-35.00 EACH CLASS \nEnjoy a small group class offered in a private ocean view studio. In this group yoga therapy approach we  address the needs of the everyone present with adaptations and healing modalities for each persons wellness goals. \nFridays are Zoom\, $15–20.00 EACH CLASS \nTEXT TO REGISTER…831-254-6100
URL:https://www.yogawithkym.com/class-details/1030am-yoga-therapy/2025-07-30/
LOCATION:capitola\, Ca\, Balboa Ave\, Capitola\, CA\, 95010\, United States
END:VEVENT
BEGIN:VEVENT
DTSTART;TZID=America/Los_Angeles:20250725T103000
DTEND;TZID=America/Los_Angeles:20250725T114500
DTSTAMP:20260420T013640
CREATED:20240501T035443Z
LAST-MODIFIED:20250221T163652Z
UID:8636-1753439400-1753443900@www.yogawithkym.com
SUMMARY:10:30AM GROUP YOGA THERAPY
DESCRIPTION:Wednesdays are Ocean View and In Person\, $25-35.00 EACH CLASS \nEnjoy a small group class offered in a private ocean view studio. In this group yoga therapy approach we  address the needs of the everyone present with adaptations and healing modalities for each persons wellness goals. \nFridays are Zoom\, $15–20.00 EACH CLASS \nTEXT TO REGISTER…831-254-6100
URL:https://www.yogawithkym.com/class-details/1030am-yoga-therapy/2025-07-25/
LOCATION:capitola\, Ca\, Balboa Ave\, Capitola\, CA\, 95010\, United States
END:VEVENT
BEGIN:VEVENT
DTSTART;TZID=America/Los_Angeles:20250723T103000
DTEND;TZID=America/Los_Angeles:20250723T114500
DTSTAMP:20260420T013640
CREATED:20240501T035443Z
LAST-MODIFIED:20250221T163652Z
UID:8635-1753266600-1753271100@www.yogawithkym.com
SUMMARY:10:30AM GROUP YOGA THERAPY
DESCRIPTION:Wednesdays are Ocean View and In Person\, $25-35.00 EACH CLASS \nEnjoy a small group class offered in a private ocean view studio. In this group yoga therapy approach we  address the needs of the everyone present with adaptations and healing modalities for each persons wellness goals. \nFridays are Zoom\, $15–20.00 EACH CLASS \nTEXT TO REGISTER…831-254-6100
URL:https://www.yogawithkym.com/class-details/1030am-yoga-therapy/2025-07-23/
LOCATION:capitola\, Ca\, Balboa Ave\, Capitola\, CA\, 95010\, United States
END:VEVENT
BEGIN:VEVENT
DTSTART;TZID=America/Los_Angeles:20250718T103000
DTEND;TZID=America/Los_Angeles:20250718T114500
DTSTAMP:20260420T013640
CREATED:20240501T035443Z
LAST-MODIFIED:20250221T163652Z
UID:8634-1752834600-1752839100@www.yogawithkym.com
SUMMARY:10:30AM GROUP YOGA THERAPY
DESCRIPTION:Wednesdays are Ocean View and In Person\, $25-35.00 EACH CLASS \nEnjoy a small group class offered in a private ocean view studio. In this group yoga therapy approach we  address the needs of the everyone present with adaptations and healing modalities for each persons wellness goals. \nFridays are Zoom\, $15–20.00 EACH CLASS \nTEXT TO REGISTER…831-254-6100
URL:https://www.yogawithkym.com/class-details/1030am-yoga-therapy/2025-07-18/
LOCATION:capitola\, Ca\, Balboa Ave\, Capitola\, CA\, 95010\, United States
END:VEVENT
BEGIN:VEVENT
DTSTART;TZID=America/Los_Angeles:20250716T103000
DTEND;TZID=America/Los_Angeles:20250716T114500
DTSTAMP:20260420T013640
CREATED:20240501T035443Z
LAST-MODIFIED:20250221T163652Z
UID:8633-1752661800-1752666300@www.yogawithkym.com
SUMMARY:10:30AM GROUP YOGA THERAPY
DESCRIPTION:Wednesdays are Ocean View and In Person\, $25-35.00 EACH CLASS \nEnjoy a small group class offered in a private ocean view studio. In this group yoga therapy approach we  address the needs of the everyone present with adaptations and healing modalities for each persons wellness goals. \nFridays are Zoom\, $15–20.00 EACH CLASS \nTEXT TO REGISTER…831-254-6100
URL:https://www.yogawithkym.com/class-details/1030am-yoga-therapy/2025-07-16/
LOCATION:capitola\, Ca\, Balboa Ave\, Capitola\, CA\, 95010\, United States
END:VEVENT
BEGIN:VEVENT
DTSTART;TZID=America/Los_Angeles:20250711T103000
DTEND;TZID=America/Los_Angeles:20250711T114500
DTSTAMP:20260420T013640
CREATED:20240501T035443Z
LAST-MODIFIED:20250221T163651Z
UID:8632-1752229800-1752234300@www.yogawithkym.com
SUMMARY:10:30AM GROUP YOGA THERAPY
DESCRIPTION:Wednesdays are Ocean View and In Person\, $25-35.00 EACH CLASS \nEnjoy a small group class offered in a private ocean view studio. In this group yoga therapy approach we  address the needs of the everyone present with adaptations and healing modalities for each persons wellness goals. \nFridays are Zoom\, $15–20.00 EACH CLASS \nTEXT TO REGISTER…831-254-6100
URL:https://www.yogawithkym.com/class-details/1030am-yoga-therapy/2025-07-11/
LOCATION:capitola\, Ca\, Balboa Ave\, Capitola\, CA\, 95010\, United States
END:VEVENT
BEGIN:VEVENT
DTSTART;TZID=America/Los_Angeles:20250709T103000
DTEND;TZID=America/Los_Angeles:20250709T114500
DTSTAMP:20260420T013640
CREATED:20240501T035443Z
LAST-MODIFIED:20250221T163651Z
UID:8631-1752057000-1752061500@www.yogawithkym.com
SUMMARY:10:30AM GROUP YOGA THERAPY
DESCRIPTION:Wednesdays are Ocean View and In Person\, $25-35.00 EACH CLASS \nEnjoy a small group class offered in a private ocean view studio. In this group yoga therapy approach we  address the needs of the everyone present with adaptations and healing modalities for each persons wellness goals. \nFridays are Zoom\, $15–20.00 EACH CLASS \nTEXT TO REGISTER…831-254-6100
URL:https://www.yogawithkym.com/class-details/1030am-yoga-therapy/2025-07-09/
LOCATION:capitola\, Ca\, Balboa Ave\, Capitola\, CA\, 95010\, United States
END:VEVENT
BEGIN:VEVENT
DTSTART;TZID=America/Los_Angeles:20250704T103000
DTEND;TZID=America/Los_Angeles:20250704T114500
DTSTAMP:20260420T013640
CREATED:20240501T035443Z
LAST-MODIFIED:20250221T163650Z
UID:8630-1751625000-1751629500@www.yogawithkym.com
SUMMARY:10:30AM GROUP YOGA THERAPY
DESCRIPTION:Wednesdays are Ocean View and In Person\, $25-35.00 EACH CLASS \nEnjoy a small group class offered in a private ocean view studio. In this group yoga therapy approach we  address the needs of the everyone present with adaptations and healing modalities for each persons wellness goals. \nFridays are Zoom\, $15–20.00 EACH CLASS \nTEXT TO REGISTER…831-254-6100
URL:https://www.yogawithkym.com/class-details/1030am-yoga-therapy/2025-07-04/
LOCATION:capitola\, Ca\, Balboa Ave\, Capitola\, CA\, 95010\, United States
END:VEVENT
BEGIN:VEVENT
DTSTART;TZID=America/Los_Angeles:20250702T103000
DTEND;TZID=America/Los_Angeles:20250702T114500
DTSTAMP:20260420T013640
CREATED:20240501T035443Z
LAST-MODIFIED:20250221T163648Z
UID:8629-1751452200-1751456700@www.yogawithkym.com
SUMMARY:10:30AM GROUP YOGA THERAPY
DESCRIPTION:Wednesdays are Ocean View and In Person\, $25-35.00 EACH CLASS \nEnjoy a small group class offered in a private ocean view studio. In this group yoga therapy approach we  address the needs of the everyone present with adaptations and healing modalities for each persons wellness goals. \nFridays are Zoom\, $15–20.00 EACH CLASS \nTEXT TO REGISTER…831-254-6100
URL:https://www.yogawithkym.com/class-details/1030am-yoga-therapy/2025-07-02/
LOCATION:capitola\, Ca\, Balboa Ave\, Capitola\, CA\, 95010\, United States
END:VEVENT
BEGIN:VEVENT
DTSTART;TZID=America/Los_Angeles:20250627T103000
DTEND;TZID=America/Los_Angeles:20250627T114500
DTSTAMP:20260420T013640
CREATED:20240501T035443Z
LAST-MODIFIED:20250221T163648Z
UID:8628-1751020200-1751024700@www.yogawithkym.com
SUMMARY:10:30AM GROUP YOGA THERAPY
DESCRIPTION:Wednesdays are Ocean View and In Person\, $25-35.00 EACH CLASS \nEnjoy a small group class offered in a private ocean view studio. In this group yoga therapy approach we  address the needs of the everyone present with adaptations and healing modalities for each persons wellness goals. \nFridays are Zoom\, $15–20.00 EACH CLASS \nTEXT TO REGISTER…831-254-6100
URL:https://www.yogawithkym.com/class-details/1030am-yoga-therapy/2025-06-27/
LOCATION:capitola\, Ca\, Balboa Ave\, Capitola\, CA\, 95010\, United States
END:VEVENT
BEGIN:VEVENT
DTSTART;TZID=America/Los_Angeles:20250625T103000
DTEND;TZID=America/Los_Angeles:20250625T114500
DTSTAMP:20260420T013640
CREATED:20240501T035443Z
LAST-MODIFIED:20250221T163647Z
UID:8627-1750847400-1750851900@www.yogawithkym.com
SUMMARY:10:30AM GROUP YOGA THERAPY
DESCRIPTION:Wednesdays are Ocean View and In Person\, $25-35.00 EACH CLASS \nEnjoy a small group class offered in a private ocean view studio. In this group yoga therapy approach we  address the needs of the everyone present with adaptations and healing modalities for each persons wellness goals. \nFridays are Zoom\, $15–20.00 EACH CLASS \nTEXT TO REGISTER…831-254-6100
URL:https://www.yogawithkym.com/class-details/1030am-yoga-therapy/2025-06-25/
LOCATION:capitola\, Ca\, Balboa Ave\, Capitola\, CA\, 95010\, United States
END:VEVENT
BEGIN:VEVENT
DTSTART;TZID=America/Los_Angeles:20250620T103000
DTEND;TZID=America/Los_Angeles:20250620T114500
DTSTAMP:20260420T013640
CREATED:20240501T035443Z
LAST-MODIFIED:20250221T163647Z
UID:8626-1750415400-1750419900@www.yogawithkym.com
SUMMARY:10:30AM GROUP YOGA THERAPY
DESCRIPTION:Wednesdays are Ocean View and In Person\, $25-35.00 EACH CLASS \nEnjoy a small group class offered in a private ocean view studio. In this group yoga therapy approach we  address the needs of the everyone present with adaptations and healing modalities for each persons wellness goals. \nFridays are Zoom\, $15–20.00 EACH CLASS \nTEXT TO REGISTER…831-254-6100
URL:https://www.yogawithkym.com/class-details/1030am-yoga-therapy/2025-06-20/
LOCATION:capitola\, Ca\, Balboa Ave\, Capitola\, CA\, 95010\, United States
END:VEVENT
BEGIN:VEVENT
DTSTART;TZID=America/Los_Angeles:20250618T103000
DTEND;TZID=America/Los_Angeles:20250618T114500
DTSTAMP:20260420T013640
CREATED:20240501T035443Z
LAST-MODIFIED:20250221T163647Z
UID:8625-1750242600-1750247100@www.yogawithkym.com
SUMMARY:10:30AM GROUP YOGA THERAPY
DESCRIPTION:Wednesdays are Ocean View and In Person\, $25-35.00 EACH CLASS \nEnjoy a small group class offered in a private ocean view studio. In this group yoga therapy approach we  address the needs of the everyone present with adaptations and healing modalities for each persons wellness goals. \nFridays are Zoom\, $15–20.00 EACH CLASS \nTEXT TO REGISTER…831-254-6100
URL:https://www.yogawithkym.com/class-details/1030am-yoga-therapy/2025-06-18/
LOCATION:capitola\, Ca\, Balboa Ave\, Capitola\, CA\, 95010\, United States
END:VEVENT
END:VCALENDAR