BEGIN:VCALENDAR
VERSION:2.0
PRODID:-//Wild Rose Yoga Therapy - ECPv6.15.20//NONSGML v1.0//EN
CALSCALE:GREGORIAN
METHOD:PUBLISH
X-WR-CALNAME:Wild Rose Yoga Therapy
X-ORIGINAL-URL:http://www.yogawithkym.com
X-WR-CALDESC:Events for Wild Rose Yoga Therapy
REFRESH-INTERVAL;VALUE=DURATION:PT1H
X-Robots-Tag:noindex
X-PUBLISHED-TTL:PT1H
BEGIN:VTIMEZONE
TZID:UTC
BEGIN:STANDARD
TZOFFSETFROM:+0000
TZOFFSETTO:+0000
TZNAME:UTC
DTSTART:20160101T000000
END:STANDARD
END:VTIMEZONE
BEGIN:VEVENT
DTSTART;TZID=UTC:20171231T120000
DTEND;TZID=UTC:20171231T131500
DTSTAMP:20260422T052821
CREATED:20160930T213956Z
LAST-MODIFIED:20171229T002222Z
UID:1456-1514721600-1514726100@www.yogawithkym.com
SUMMARY:12:00pm No Class Today
DESCRIPTION:VINIYOGA FOR YOUR BACK \nExperience Kym’s Structural Viniyoga Therapy offered in a group setting. (Viniyoga is a Sanskrit word for adapt or apply yogic practices to the individual\, group and/or situation). Address conditions of the upper back\, neck and shoulders as well as the low back\, sacrum and hips and their relationship to each other. Explore therapeutic Viniyoga practices\, (See Therapeutic Yoga Class Description)\, integrated with western functional biomechanics. Learn about YOUR anatomy and condition. Learn therapeutic practices that create balance. Increase strength\, flexibility\, stability\, range of motion\, circulation and promote healing. This class is appropriate for all levels. Individual adaptations are offered. \nPlease consult Kym for acute injury; 831-254-6100 ~www.yogawithkym.com \nDrop In $14.00\n10 classes for $120.00
URL:http://www.yogawithkym.com/class-details/viniyoga-for-your-back-5-5-7-2-2017-12-31/
LOCATION:Pacific Edge Climbing Gym\, 104 Bronson Street #12\, Santa Cruz\, CA\, 95062\, United States
END:VEVENT
BEGIN:VEVENT
DTSTART;TZID=UTC:20171116T103000
DTEND;TZID=UTC:20171116T114500
DTSTAMP:20260422T052821
CREATED:20160119T034959Z
LAST-MODIFIED:20171030T052540Z
UID:1034-1510828200-1510832700@www.yogawithkym.com
SUMMARY:11:00am Today Only! Viniyoga for Your Back
DESCRIPTION:VINIYOGA FOR YOUR BACK \nExperience Kym’s Structural Viniyoga Therapy offered in a group setting. (Viniyoga is a Sanskrit word for adapt or apply yogic practices to the individual\, group and/or situation). Address conditions of the upper back\, neck and shoulders as well as the low back\, sacrum and hips and their relationship to each other. Explore therapeutic Viniyoga practices\, (See Therapeutic Yoga Class Description)\, integrated with western functional biomechanics. Learn about YOUR anatomy and condition. Learn therapeutic practices that create balance. Increase strength\, flexibility\, stability\, range of motion\, circulation and promote healing. This class is appropriate for all levels. Individual adaptations are offered. \nPlease consult Kym for acute injury; 831-254-6100 ~www.yogawithkym.com \nDrop In $14.00\n10 Classes for $120.00
URL:http://www.yogawithkym.com/class-details/viniyoga-2-3-6-3-2017-11-16/
LOCATION:Pacific Edge Climbing Gym\, 104 Bronson Street #12\, Santa Cruz\, CA\, 95062\, United States
END:VEVENT
BEGIN:VEVENT
DTSTART;TZID=UTC:20170709T120000
DTEND;TZID=UTC:20170709T131500
DTSTAMP:20260422T052821
CREATED:20160930T213956Z
LAST-MODIFIED:20170707T231338Z
UID:1431-1499601600-1499606100@www.yogawithkym.com
SUMMARY:12:00pm Viniyoga for Your Back-Gabriel will Sub
DESCRIPTION:VINIYOGA FOR YOUR BACK \nExperience Kym’s Structural Viniyoga Therapy offered in a group setting. (Viniyoga is a Sanskrit word for adapt or apply yogic practices to the individual\, group and/or situation). Address conditions of the upper back\, neck and shoulders as well as the low back\, sacrum and hips and their relationship to each other. Explore therapeutic Viniyoga practices\, (See Therapeutic Yoga Class Description)\, integrated with western functional biomechanics. Learn about YOUR anatomy and condition. Learn therapeutic practices that create balance. Increase strength\, flexibility\, stability\, range of motion\, circulation and promote healing. This class is appropriate for all levels. Individual adaptations are offered. \nPlease consult Kym for acute injury; 831-254-6100 ~www.yogawithkym.com \nDrop In $14.00\n10 classes for $120.00
URL:http://www.yogawithkym.com/class-details/viniyoga-for-your-back-5-5-7-2-2017-07-09/
LOCATION:Pacific Edge Climbing Gym\, 104 Bronson Street #12\, Santa Cruz\, CA\, 95062\, United States
END:VEVENT
BEGIN:VEVENT
DTSTART;TZID=UTC:20170625T120000
DTEND;TZID=UTC:20170625T131500
DTSTAMP:20260422T052821
CREATED:20160930T213956Z
LAST-MODIFIED:20170625T023100Z
UID:1429-1498392000-1498396500@www.yogawithkym.com
SUMMARY:12:00pm No Class Today!
DESCRIPTION:VINIYOGA FOR YOUR BACK \nExperience Kym’s Structural Viniyoga Therapy offered in a group setting. (Viniyoga is a Sanskrit word for adapt or apply yogic practices to the individual\, group and/or situation). Address conditions of the upper back\, neck and shoulders as well as the low back\, sacrum and hips and their relationship to each other. Explore therapeutic Viniyoga practices\, (See Therapeutic Yoga Class Description)\, integrated with western functional biomechanics. Learn about YOUR anatomy and condition. Learn therapeutic practices that create balance. Increase strength\, flexibility\, stability\, range of motion\, circulation and promote healing. This class is appropriate for all levels. Individual adaptations are offered. \nPlease consult Kym for acute injury; 831-254-6100 ~www.yogawithkym.com \nDrop In $14.00\n10 classes for $120.00
URL:http://www.yogawithkym.com/class-details/viniyoga-for-your-back-5-5-7-2-2017-06-25/
LOCATION:Pacific Edge Climbing Gym\, 104 Bronson Street #12\, Santa Cruz\, CA\, 95062\, United States
END:VEVENT
BEGIN:VEVENT
DTSTART;TZID=UTC:20170112T103000
DTEND;TZID=UTC:20170112T114500
DTSTAMP:20260422T052821
CREATED:20160119T034959Z
LAST-MODIFIED:20180802T024002Z
UID:2961-1484217000-1484221500@www.yogawithkym.com
SUMMARY:10:30am Viniyoga for Your Back
DESCRIPTION:VINIYOGA FOR YOUR BACK \nExperience Kym’s Structural Viniyoga Therapy offered in a group setting. (Viniyoga is a Sanskrit word for adapt or apply yogic practices to the individual\, group and/or situation). Address conditions of the upper back\, neck and shoulders as well as the low back\, sacrum and hips and their relationship to each other. Explore therapeutic Viniyoga practices\, (See Therapeutic Yoga Class Description)\, integrated with western functional biomechanics. Learn about YOUR anatomy and condition. Learn therapeutic practices that create balance. Increase strength\, flexibility\, stability\, range of motion\, circulation and promote healing. This class is appropriate for all levels. Individual adaptations are offered. \nPlease consult Kym for acute injury; 831-254-6100 ~www.yogawithkym.com \nDrop In $14.00\n10 Classes for $120.00
URL:http://www.yogawithkym.com/class-details/viniyoga-2-3-6-3-2017-01-12/2017-01-12/
LOCATION:Pacific Edge Climbing Gym\, 104 Bronson Street #12\, Santa Cruz\, CA\, 95062\, United States
END:VEVENT
BEGIN:VEVENT
DTSTART;TZID=UTC:20170105T103000
DTEND;TZID=UTC:20170105T114500
DTSTAMP:20260422T052821
CREATED:20160119T034959Z
LAST-MODIFIED:20171030T052729Z
UID:657-1483612200-1483616700@www.yogawithkym.com
SUMMARY:10:30am No Class Today\, Happy Thanksgiving!
DESCRIPTION:VINIYOGA FOR YOUR BACK \nExperience Kym’s Structural Viniyoga Therapy offered in a group setting. (Viniyoga is a Sanskrit word for adapt or apply yogic practices to the individual\, group and/or situation). Address conditions of the upper back\, neck and shoulders as well as the low back\, sacrum and hips and their relationship to each other. Explore therapeutic Viniyoga practices\, (See Therapeutic Yoga Class Description)\, integrated with western functional biomechanics. Learn about YOUR anatomy and condition. Learn therapeutic practices that create balance. Increase strength\, flexibility\, stability\, range of motion\, circulation and promote healing. This class is appropriate for all levels. Individual adaptations are offered. \nPlease consult Kym for acute injury; 831-254-6100 ~www.yogawithkym.com \nDrop In $14.00\n10 Classes for $120.00
URL:http://www.yogawithkym.com/class-details/viniyoga-2-3-6-3/
LOCATION:Pacific Edge Climbing Gym\, 104 Bronson Street #12\, Santa Cruz\, CA\, 95062\, United States
END:VEVENT
BEGIN:VEVENT
DTSTART;TZID=UTC:20170101T120000
DTEND;TZID=UTC:20170101T131500
DTSTAMP:20260422T052821
CREATED:20160930T213956Z
LAST-MODIFIED:20180802T025208Z
UID:684-1483272000-1483276500@www.yogawithkym.com
SUMMARY:12:00pm Viniyoga for Your Back
DESCRIPTION:VINIYOGA FOR YOUR BACK \nExperience Kym’s Structural Viniyoga Therapy offered in a group setting. (Viniyoga is a Sanskrit word for adapt or apply yogic practices to the individual\, group and/or situation). Address conditions of the upper back\, neck and shoulders as well as the low back\, sacrum and hips and their relationship to each other. Explore therapeutic Viniyoga practices\, (See Therapeutic Yoga Class Description)\, integrated with western functional biomechanics. Learn about YOUR anatomy and condition. Learn therapeutic practices that create balance. Increase strength\, flexibility\, stability\, range of motion\, circulation and promote healing. This class is appropriate for all levels. Individual adaptations are offered. \nPlease consult Kym for acute injury; 831-254-6100 ~www.yogawithkym.com \nDrop In $14.00\n10 classes for $120.00
URL:http://www.yogawithkym.com/class-details/viniyoga-for-your-back-5-5-7-2/2017-01-01/
LOCATION:Pacific Edge Climbing Gym\, 104 Bronson Street #12\, Santa Cruz\, CA\, 95062\, United States
END:VEVENT
END:VCALENDAR