BEGIN:VCALENDAR
VERSION:2.0
PRODID:-//Wild Rose Yoga Therapy - ECPv6.15.20//NONSGML v1.0//EN
CALSCALE:GREGORIAN
METHOD:PUBLISH
X-WR-CALNAME:Wild Rose Yoga Therapy
X-ORIGINAL-URL:http://www.yogawithkym.com
X-WR-CALDESC:Events for Wild Rose Yoga Therapy
REFRESH-INTERVAL;VALUE=DURATION:PT1H
X-Robots-Tag:noindex
X-PUBLISHED-TTL:PT1H
BEGIN:VTIMEZONE
TZID:America/Los_Angeles
BEGIN:DAYLIGHT
TZOFFSETFROM:-0800
TZOFFSETTO:-0700
TZNAME:PDT
DTSTART:20170312T100000
END:DAYLIGHT
BEGIN:STANDARD
TZOFFSETFROM:-0700
TZOFFSETTO:-0800
TZNAME:PST
DTSTART:20171105T090000
END:STANDARD
BEGIN:DAYLIGHT
TZOFFSETFROM:-0800
TZOFFSETTO:-0700
TZNAME:PDT
DTSTART:20180311T100000
END:DAYLIGHT
BEGIN:STANDARD
TZOFFSETFROM:-0700
TZOFFSETTO:-0800
TZNAME:PST
DTSTART:20181104T090000
END:STANDARD
BEGIN:DAYLIGHT
TZOFFSETFROM:-0800
TZOFFSETTO:-0700
TZNAME:PDT
DTSTART:20190310T100000
END:DAYLIGHT
BEGIN:STANDARD
TZOFFSETFROM:-0700
TZOFFSETTO:-0800
TZNAME:PST
DTSTART:20191103T090000
END:STANDARD
END:VTIMEZONE
BEGIN:VEVENT
DTSTART;TZID=America/Los_Angeles:20180801T080000
DTEND;TZID=America/Los_Angeles:20180801T170000
DTSTAMP:20260422T021047
CREATED:20180802T022633Z
LAST-MODIFIED:20180802T022633Z
UID:5251-1533110400-1533142800@www.yogawithkym.com
SUMMARY:New Classes and Workshops Coming Soon
DESCRIPTION:Call or email me for private or group sessions.
URL:http://www.yogawithkym.com/class-details/new-classes-and-workshops-coming-soon/2018-08-01/
END:VEVENT
END:VCALENDAR