BEGIN:VCALENDAR
VERSION:2.0
PRODID:-//Wild Rose Yoga Therapy - ECPv6.15.20//NONSGML v1.0//EN
CALSCALE:GREGORIAN
METHOD:PUBLISH
X-ORIGINAL-URL:http://www.yogawithkym.com
X-WR-CALDESC:Events for Wild Rose Yoga Therapy
REFRESH-INTERVAL;VALUE=DURATION:PT1H
X-Robots-Tag:noindex
X-PUBLISHED-TTL:PT1H
BEGIN:VTIMEZONE
TZID:America/Los_Angeles
BEGIN:DAYLIGHT
TZOFFSETFROM:-0800
TZOFFSETTO:-0700
TZNAME:PDT
DTSTART:20170312T100000
END:DAYLIGHT
BEGIN:STANDARD
TZOFFSETFROM:-0700
TZOFFSETTO:-0800
TZNAME:PST
DTSTART:20171105T090000
END:STANDARD
BEGIN:DAYLIGHT
TZOFFSETFROM:-0800
TZOFFSETTO:-0700
TZNAME:PDT
DTSTART:20180311T100000
END:DAYLIGHT
BEGIN:STANDARD
TZOFFSETFROM:-0700
TZOFFSETTO:-0800
TZNAME:PST
DTSTART:20181104T090000
END:STANDARD
BEGIN:DAYLIGHT
TZOFFSETFROM:-0800
TZOFFSETTO:-0700
TZNAME:PDT
DTSTART:20190310T100000
END:DAYLIGHT
BEGIN:STANDARD
TZOFFSETFROM:-0700
TZOFFSETTO:-0800
TZNAME:PST
DTSTART:20191103T090000
END:STANDARD
END:VTIMEZONE
BEGIN:VEVENT
DTSTART;TZID=America/Los_Angeles:20180907T064500
DTEND;TZID=America/Los_Angeles:20180907T074500
DTSTAMP:20260420T031929
CREATED:20180908T124616Z
LAST-MODIFIED:20180908T124616Z
UID:5766-1536302700-1536306300@www.yogawithkym.com
SUMMARY:Mellow Flow at Keauhou Bay
DESCRIPTION:Enjoy a beautiful outdoor class tailored to the needs of the day. Namaste
URL:http://www.yogawithkym.com/class-details/mellow-flow-at-keauhou-bay/2018-09-07/
LOCATION:sea quest\,  keahou\, 78-7138 Kaleiopapa St\, Kailua-Kona\, HI 96740\, HI\, United States
GEO:19.5611849;-155.96228
X-APPLE-STRUCTURED-LOCATION;VALUE=URI;X-ADDRESS=sea quest  keahou 78-7138 Kaleiopapa St Kailua-Kona HI 96740 HI United States;X-APPLE-RADIUS=500;X-TITLE=78-7138 Kaleiopapa St\, Kailua-Kona\, HI 96740:geo:-155.96228,19.5611849
END:VEVENT
END:VCALENDAR