BEGIN:VCALENDAR
VERSION:2.0
PRODID:-//Wild Rose Yoga Therapy - ECPv6.15.20//NONSGML v1.0//EN
CALSCALE:GREGORIAN
METHOD:PUBLISH
X-ORIGINAL-URL:http://www.yogawithkym.com
X-WR-CALDESC:Events for Wild Rose Yoga Therapy
REFRESH-INTERVAL;VALUE=DURATION:PT1H
X-Robots-Tag:noindex
X-PUBLISHED-TTL:PT1H
BEGIN:VTIMEZONE
TZID:America/Los_Angeles
BEGIN:DAYLIGHT
TZOFFSETFROM:-0800
TZOFFSETTO:-0700
TZNAME:PDT
DTSTART:20210314T100000
END:DAYLIGHT
BEGIN:STANDARD
TZOFFSETFROM:-0700
TZOFFSETTO:-0800
TZNAME:PST
DTSTART:20211107T090000
END:STANDARD
BEGIN:DAYLIGHT
TZOFFSETFROM:-0800
TZOFFSETTO:-0700
TZNAME:PDT
DTSTART:20220313T100000
END:DAYLIGHT
BEGIN:STANDARD
TZOFFSETFROM:-0700
TZOFFSETTO:-0800
TZNAME:PST
DTSTART:20221106T090000
END:STANDARD
BEGIN:DAYLIGHT
TZOFFSETFROM:-0800
TZOFFSETTO:-0700
TZNAME:PDT
DTSTART:20230312T100000
END:DAYLIGHT
BEGIN:STANDARD
TZOFFSETFROM:-0700
TZOFFSETTO:-0800
TZNAME:PST
DTSTART:20231105T090000
END:STANDARD
END:VTIMEZONE
BEGIN:VEVENT
DTSTART;TZID=America/Los_Angeles:20221116T103000
DTEND;TZID=America/Los_Angeles:20221116T114500
DTSTAMP:20260420T020133
CREATED:20221115T185223Z
LAST-MODIFIED:20230726T154024Z
UID:6698-1668594600-1668599100@www.yogawithkym.com
SUMMARY:In Person-Group Yoga Therapy 10:30-11:45am
DESCRIPTION:Therapeutic practices are offered in a small group setting. \nIndividuals will receive adaptations and unique offerings for their own condition or goals. \nClasses are in Person and held at a private ocean view residence. \nSpace is limited and pre-registration is required. \nOne Class = $30.00   One Month pre-registration = $25.00 Per Class \nI accept CASH\, CHECK\, ZELLE- Use Yogawithkym@gmail.com \nVenmo to @Kym-House or PayPal  to yogawithkym@gmail.com \nEmail me at Yogawithkym@gmail.com for more info or to register.
URL:http://www.yogawithkym.com/class-details/group-yoga-therapy/2022-11-16/
END:VEVENT
END:VCALENDAR